BEGIN:VCALENDAR
VERSION:2.0
PRODID:-//London Christian High - ECPv6.15.20//NONSGML v1.0//EN
CALSCALE:GREGORIAN
METHOD:PUBLISH
X-WR-CALNAME:London Christian High
X-ORIGINAL-URL:https://londonchristianhigh.ca
X-WR-CALDESC:Events for London Christian High
REFRESH-INTERVAL;VALUE=DURATION:PT1H
X-Robots-Tag:noindex
X-PUBLISHED-TTL:PT1H
BEGIN:VTIMEZONE
TZID:America/Toronto
BEGIN:DAYLIGHT
TZOFFSETFROM:-0500
TZOFFSETTO:-0400
TZNAME:EDT
DTSTART:20250309T070000
END:DAYLIGHT
BEGIN:STANDARD
TZOFFSETFROM:-0400
TZOFFSETTO:-0500
TZNAME:EST
DTSTART:20251102T060000
END:STANDARD
BEGIN:DAYLIGHT
TZOFFSETFROM:-0500
TZOFFSETTO:-0400
TZNAME:EDT
DTSTART:20260308T070000
END:DAYLIGHT
BEGIN:STANDARD
TZOFFSETFROM:-0400
TZOFFSETTO:-0500
TZNAME:EST
DTSTART:20261101T060000
END:STANDARD
BEGIN:DAYLIGHT
TZOFFSETFROM:-0500
TZOFFSETTO:-0400
TZNAME:EDT
DTSTART:20270314T070000
END:DAYLIGHT
BEGIN:STANDARD
TZOFFSETFROM:-0400
TZOFFSETTO:-0500
TZNAME:EST
DTSTART:20271107T060000
END:STANDARD
END:VTIMEZONE
BEGIN:VEVENT
DTSTART;VALUE=DATE:20260113
DTEND;VALUE=DATE:20260213
DTSTAMP:20260423T174546
CREATED:20251209T163238Z
LAST-MODIFIED:20260126T193620Z
UID:7704-1768262400-1770940799@londonchristianhigh.ca
SUMMARY:Parent Information Nights
DESCRIPTION:Join Us for London Christian High Parent Information Night! \nAre you ready to embark on the exciting journey of your child’s high school years? Whether your student is entering high school next year or in a few years’ time\, this Parent Information Night is your chance to get a deeper understanding of London Christian High. \nOur Admissions Coordinator and Principal will give you an overview of everything you need to know about London Christian High. From understanding the admissions process\, tuition\, our program\, student services\, to exploring the ‘why’ behind Christian Education\, we’ve got it covered. \nYou’ll gain insights into important topics like course offerings\, tuition assistance\, parent communication\, and transportation. Plus\, we’ll highlight the ways we support student well-being and provide a safe and inclusive learning environment. \nDon’t miss out on the opportunity to ask questions\, connect with other parents\, and gather information to support your child’s educational success. \nGrades 5 to 8 parents are welcome! \nMark your calendars and be part of this vital conversation. \n  \nDates & Times \nFebruary 3 – London Christian Elementary School\, 7-8pm \n202 Clarke Rd\, London\, ON \n  \nFebruary 4 – Immanuel Christian School\, 7-8pm \n75 Caverly Rd\, Aylmer\, ON \n  \nFebruary 10 – Stratford & District Christian School\, 7-8pm \n190 Queensland Rd\, Stratford\, ON \n  \nFebruary 11 – John Knox Christian School\, 7-8pm \n4738 Confederation Line\, Wyoming\, ON \n  \nFebruary 12 – London Christian Academy\, 7-8pm \n85 Charles St\, London\, ON \n  \n  \nLoading…
URL:https://londonchristianhigh.ca/event/parent-information-nights-2026/
LOCATION:ON
CATEGORIES:Admissions,Community
ATTACH;FMTTYPE=image/png:https://londonchristianhigh.ca/wp-content/uploads/2025/12/PIN-Graphic-2025-2026-Event-Page.png
ORGANIZER;CN="London Christian High - Admissions":MAILTO:admissions@lchonline.ca
END:VEVENT
BEGIN:VEVENT
DTSTART;TZID=America/Toronto:20260115T190000
DTEND;TZID=America/Toronto:20260115T210000
DTSTAMP:20260423T174546
CREATED:20250106T163716Z
LAST-MODIFIED:20251209T154345Z
UID:7827-1768503600-1768510800@londonchristianhigh.ca
SUMMARY:Arts Night 2026
DESCRIPTION:Join us for a free\, family-friendly night of creativity and community on January 15th at 7PM! Enjoy the beautiful artworks created by our Grade 9 to 12 art students while listening to live music performed by our String Quartet and talented pianists. The night officially opens with worship and prayer led by our praise team. The evening caps off with a performance by the Grade 10 Drama Class. \nProgram: \n\n7:00 – 7:20 – Live Music and Art Exhibition (English Hallway to Courtyard)\n7:20 – 7:35 – Worship & Prayer to open the night (Learning Commons)\n7:35 – 8:00 – Live Music and Art Exhibition (English Hallway to Courtyard)\n8:00 – 8:45 – Grade 10 Drama Class performance of The Day the Internet Died
URL:https://londonchristianhigh.ca/event/arts-night-2026/
LOCATION:London Christian High\, 24 Braesyde Ave\, London\, ON\, N5W 1V3\, Canada
CATEGORIES:Community,Drama,Music,Visual Art
ATTACH;FMTTYPE=image/png:https://londonchristianhigh.ca/wp-content/uploads/2025/01/ARTS-NIGHT-2025-2026.png
END:VEVENT
BEGIN:VEVENT
DTSTART;TZID=America/Toronto:20260116T190000
DTEND;TZID=America/Toronto:20260116T203000
DTSTAMP:20260423T174546
CREATED:20251218T152733Z
LAST-MODIFIED:20251218T152733Z
UID:8588-1768590000-1768595400@londonchristianhigh.ca
SUMMARY:LCH Sr Drama Presents "Quest! One Play to Rule Them All"
DESCRIPTION:The Senior Drama Class of 2025/2026 is excited to present to you all… “Quest! One Play To Rule Them All” a collaborative production written by an ensemble of ten playwrights: Matthew Byrd\, Ruben Carbajal\, Kathryn Funkhouser\, Patrick Greene\, Mora V. Harris\, Elissa C. Huang\, Elizabeth A.M. Keel\, Carrie McCrossen\, Ian McWethy\, and Jason Pizzarello. \nJoin us for a night of adventure and fun as we journey through scary dungeons\, mystical forests\, and even New Jersey! \nTickets are $8 per person – Reserve yours today! \n﻿Loading… \n\nQuest! is produced by special arrangement with Stage Partners. (www.yourstagepartners.com)
URL:https://londonchristianhigh.ca/event/lch_srdrama_quest/
LOCATION:London Christian High\, 24 Braesyde Ave\, London\, ON\, N5W 1V3\, Canada
CATEGORIES:Community,Drama
ATTACH;FMTTYPE=image/png:https://londonchristianhigh.ca/wp-content/uploads/2025/12/Facebook-Size-Post-Quest-Play-1920-x-1080-px.png
ORGANIZER;CN="Danielle Bird":MAILTO:dbird@lchonline.ca
END:VEVENT
END:VCALENDAR