BEGIN:VCALENDAR
VERSION:2.0
PRODID:-//London Christian High - ECPv6.15.20//NONSGML v1.0//EN
CALSCALE:GREGORIAN
METHOD:PUBLISH
X-ORIGINAL-URL:https://londonchristianhigh.ca
X-WR-CALDESC:Events for London Christian High
REFRESH-INTERVAL;VALUE=DURATION:PT1H
X-Robots-Tag:noindex
X-PUBLISHED-TTL:PT1H
BEGIN:VTIMEZONE
TZID:America/Toronto
BEGIN:DAYLIGHT
TZOFFSETFROM:-0500
TZOFFSETTO:-0400
TZNAME:EDT
DTSTART:20240310T070000
END:DAYLIGHT
BEGIN:STANDARD
TZOFFSETFROM:-0400
TZOFFSETTO:-0500
TZNAME:EST
DTSTART:20241103T060000
END:STANDARD
BEGIN:DAYLIGHT
TZOFFSETFROM:-0500
TZOFFSETTO:-0400
TZNAME:EDT
DTSTART:20250309T070000
END:DAYLIGHT
BEGIN:STANDARD
TZOFFSETFROM:-0400
TZOFFSETTO:-0500
TZNAME:EST
DTSTART:20251102T060000
END:STANDARD
BEGIN:DAYLIGHT
TZOFFSETFROM:-0500
TZOFFSETTO:-0400
TZNAME:EDT
DTSTART:20260308T070000
END:DAYLIGHT
BEGIN:STANDARD
TZOFFSETFROM:-0400
TZOFFSETTO:-0500
TZNAME:EST
DTSTART:20261101T060000
END:STANDARD
END:VTIMEZONE
BEGIN:VEVENT
DTSTART;TZID=America/Toronto:20250828T170000
DTEND;TZID=America/Toronto:20250828T203000
DTSTAMP:20260423T150221
CREATED:20230816T203237Z
LAST-MODIFIED:20250805T152242Z
UID:6701-1756400400-1756413000@londonchristianhigh.ca
SUMMARY:Community BBQ
DESCRIPTION:Join us for our annual Community BBQ! This is a great time for new and returning students and families to connect with each other\, with the staff\, and tour the building. As part of the evening\, new parents will receive an orientation to London Christian High. We look forward to seeing you there!
URL:https://londonchristianhigh.ca/event/community-bbq-2025/
LOCATION:London Christian High\, 24 Braesyde Ave\, London\, ON\, N5W 1V3\, Canada
CATEGORIES:Community,Food
ATTACH;FMTTYPE=image/png:https://londonchristianhigh.ca/wp-content/uploads/2023/08/Community-BBQ-Graphic-2025.png
ORGANIZER;CN="London Christian High":MAILTO:office@lchonline.ca
END:VEVENT
END:VCALENDAR