BEGIN:VCALENDAR
VERSION:2.0
PRODID:-//London Christian High - ECPv6.15.20//NONSGML v1.0//EN
CALSCALE:GREGORIAN
METHOD:PUBLISH
X-WR-CALNAME:London Christian High
X-ORIGINAL-URL:https://londonchristianhigh.ca
X-WR-CALDESC:Events for London Christian High
REFRESH-INTERVAL;VALUE=DURATION:PT1H
X-Robots-Tag:noindex
X-PUBLISHED-TTL:PT1H
BEGIN:VTIMEZONE
TZID:America/Toronto
BEGIN:DAYLIGHT
TZOFFSETFROM:-0500
TZOFFSETTO:-0400
TZNAME:EDT
DTSTART:20240310T070000
END:DAYLIGHT
BEGIN:STANDARD
TZOFFSETFROM:-0400
TZOFFSETTO:-0500
TZNAME:EST
DTSTART:20241103T060000
END:STANDARD
BEGIN:DAYLIGHT
TZOFFSETFROM:-0500
TZOFFSETTO:-0400
TZNAME:EDT
DTSTART:20250309T070000
END:DAYLIGHT
BEGIN:STANDARD
TZOFFSETFROM:-0400
TZOFFSETTO:-0500
TZNAME:EST
DTSTART:20251102T060000
END:STANDARD
BEGIN:DAYLIGHT
TZOFFSETFROM:-0500
TZOFFSETTO:-0400
TZNAME:EDT
DTSTART:20260308T070000
END:DAYLIGHT
BEGIN:STANDARD
TZOFFSETFROM:-0400
TZOFFSETTO:-0500
TZNAME:EST
DTSTART:20261101T060000
END:STANDARD
END:VTIMEZONE
BEGIN:VEVENT
DTSTART;TZID=America/Toronto:20251215T190000
DTEND;TZID=America/Toronto:20251215T203000
DTSTAMP:20260423T194657
CREATED:20241111T163830Z
LAST-MODIFIED:20251006T141615Z
UID:7587-1765825200-1765830600@londonchristianhigh.ca
SUMMARY:Christmas Program
DESCRIPTION:Join us Monday\, December 15th at 7 PM for a celebration of the birth of our Saviour through music by LCH students! All are welcome.
URL:https://londonchristianhigh.ca/event/christmas-program-2025/
LOCATION:London Christian High\, 24 Braesyde Ave\, London\, ON\, N5W 1V3\, Canada
CATEGORIES:Community,Music
ATTACH;FMTTYPE=image/png:https://londonchristianhigh.ca/wp-content/uploads/2024/11/Christmas-Program-2025-2026-FBWebsite-Event.png
ORGANIZER;CN="London Christian High":MAILTO:office@lchonline.ca
END:VEVENT
BEGIN:VEVENT
DTSTART;TZID=America/Toronto:20251204T190000
DTEND;TZID=America/Toronto:20251204T203000
DTSTAMP:20260423T194657
CREATED:20251028T133732Z
LAST-MODIFIED:20251114T155431Z
UID:8520-1764874800-1764880200@londonchristianhigh.ca
SUMMARY:Open House
DESCRIPTION:Join us for our Open House Thursday\, December 4th from 7 to 8:30PM\, a casual evening perfect for families who are curious about London Christian High and want to learn more. This is a great opportunity to check out our school building\, go on a tour with one of our student leaders\, and ask questions of our staff to see if LCH is the right fit for you. \nPlease RSVP below: \n﻿Loading…
URL:https://londonchristianhigh.ca/event/open-house/
LOCATION:London Christian High\, 24 Braesyde Ave\, London\, ON\, N5W 1V3\, Canada
CATEGORIES:Admissions
ATTACH;FMTTYPE=image/png:https://londonchristianhigh.ca/wp-content/uploads/2025/10/Open-House-Event-Page-02.png
END:VEVENT
BEGIN:VEVENT
DTSTART;TZID=America/Toronto:20251112T093000
DTEND;TZID=America/Toronto:20251112T140000
DTSTAMP:20260423T194657
CREATED:20231004T140718Z
LAST-MODIFIED:20250923T145238Z
UID:6755-1762939800-1762956000@londonchristianhigh.ca
SUMMARY:Grade 8 Day
DESCRIPTION:*Please Note: Students coming from partner Christian elementary schools should inquire with their Grade 8 teachers for registration. \nExperience what it’s like to be in high school for a day! Grade 8 students will participate in a typical day of high school by rotating between 4 different workshops run by our amazing teachers. Groups of students will be lead by LCH student leaders who can also answer question they have about the transition to high school. Lunch will be provided free of cost. \nParents are welcome to join us for Grade 8 Day day and accompany their student. There will be knowledgeable staff present to answer any questions you may have about our school. \nIf you are interested in learning more about LCH\, please don’t hesitate to reach out to our Admissions Coordinator: admissions@lchonline.ca \nStudents who are interested in attending from public\, Catholic\, or homeschooling should register by filling out the form below: \nLoading…
URL:https://londonchristianhigh.ca/event/grade-8-day-2025/
LOCATION:London Christian High\, 24 Braesyde Ave\, London\, ON\, N5W 1V3\, Canada
CATEGORIES:Community,Enrollment,Outreach
ATTACH;FMTTYPE=image/png:https://londonchristianhigh.ca/wp-content/uploads/2023/10/Grade-8-Day-Event-2025.png
ORGANIZER;CN="London Christian High - Admissions":MAILTO:admissions@lchonline.ca
END:VEVENT
BEGIN:VEVENT
DTSTART;TZID=America/Toronto:20251022T180000
DTEND;TZID=America/Toronto:20251022T200000
DTSTAMP:20260423T194657
CREATED:20241002T143158Z
LAST-MODIFIED:20250923T135800Z
UID:7506-1761156000-1761163200@londonchristianhigh.ca
SUMMARY:Christian College University Fair
DESCRIPTION:Join us at London Christian High on Wednesday\, October 22\, 2025\, from 6-8 PM for our Christian College University Fair! This event is a fantastic opportunity for parents and high school students to explore post-secondary options that prioritize faith and academic excellence. Representatives from Christian institutions such as Tyndale University\, Redeemer University\, Dordt University\, and more will be present to share information and answer your questions. \nWhether you’re considering a future in the arts\, sciences\, theology\, or beyond\, this is your chance to discover the unique programs and supportive faith-based environments offered by Christian schools in Canada and the US. Join us in the atrium for an evening of exploration\, inspiration\, and planning for your next steps. \nThis event is open to everyone—we look forward to seeing you there!
URL:https://londonchristianhigh.ca/event/christian-college-university-fair-2025/
LOCATION:London Christian High\, 24 Braesyde Ave\, London\, ON\, N5W 1V3\, Canada
CATEGORIES:Community
ATTACH;FMTTYPE=image/png:https://londonchristianhigh.ca/wp-content/uploads/2024/10/CCUF-2025.png
ORGANIZER;CN="Jacky Dieleman":MAILTO:jdieleman@lchonline.ca
END:VEVENT
BEGIN:VEVENT
DTSTART;TZID=America/Toronto:20251015T093000
DTEND;TZID=America/Toronto:20251015T130000
DTSTAMP:20260423T194657
CREATED:20230919T140433Z
LAST-MODIFIED:20250818T132858Z
UID:6712-1760520600-1760533200@londonchristianhigh.ca
SUMMARY:Seniors Appreciation Day
DESCRIPTION:All grandparents and special seniors are welcome to join us at LCH on Wednesday\, October 15 from 9:30 – 1:00 pm to celebrate God’s faithfulness here at London Christian High. Grandparents and Seniors will be treated to coffee\, refreshments\, an assembly\, classroom visits\, and lunch during their time at LCH.
URL:https://londonchristianhigh.ca/event/seniors-appreciation-day-2025/
LOCATION:London Christian High\, 24 Braesyde Ave\, London\, ON\, N5W 1V3\, Canada
CATEGORIES:Community
ATTACH;FMTTYPE=image/png:https://londonchristianhigh.ca/wp-content/uploads/2023/09/Seniors-Day-Graphic-2025-Facebook-Event-Cover.png
ORGANIZER;CN="London Christian High":MAILTO:office@lchonline.ca
END:VEVENT
BEGIN:VEVENT
DTSTART;TZID=America/Toronto:20250926T133000
DTEND;TZID=America/Toronto:20250926T210000
DTSTAMP:20260423T194657
CREATED:20250429T142150Z
LAST-MODIFIED:20250919T192235Z
UID:8048-1758893400-1758920400@londonchristianhigh.ca
SUMMARY:Golf Tournament 2025
DESCRIPTION:REGISTRATION IS NOW CLOSED \nJoin us for a day of golf and community at Echo Valley Golf Club as we come together to support London Christian High at the 15th Annual Golf Tournament! Our goal for this year’s tournament is to raise $40\,000 to support the ongoing work of London Christian High. By participating\, you can help us achieve this goal and continue to provide a Christ-centred education for our students. To register as a player\, click the button below: \nPlayer Registration\nSign up as a sponsor for this event! Sponsorship levels range from $500 to $5000\, providing different opportunities to mutual benefit. To register as a sponsor\, click the button below: \n  \nSponsorship Registration\n  \nPAY NOW\n  \n \n  \nPlayer and Sponsorship funds are due upon form completion. Preferred payment is credit card via the button below\, or via e-transfer to finance@lchonline.ca. Alternatively\, by mailing a cheque to the school. \n  \nPAY NOW
URL:https://londonchristianhigh.ca/event/golf-tournament-2025/
LOCATION:Echo Valley Golf Club\, 2738 Brigham Rd.\, London\, ON\, Canada
CATEGORIES:Community,Fundraising
ATTACH;FMTTYPE=image/png:https://londonchristianhigh.ca/wp-content/uploads/2025/04/Golf-Tournament-2025-Facebook-Event.png
ORGANIZER;CN="LCH Golf Committee":MAILTO:golf@lchonline.ca
END:VEVENT
BEGIN:VEVENT
DTSTART;TZID=America/Toronto:20250828T170000
DTEND;TZID=America/Toronto:20250828T203000
DTSTAMP:20260423T194657
CREATED:20230816T203237Z
LAST-MODIFIED:20250805T152242Z
UID:6701-1756400400-1756413000@londonchristianhigh.ca
SUMMARY:Community BBQ
DESCRIPTION:Join us for our annual Community BBQ! This is a great time for new and returning students and families to connect with each other\, with the staff\, and tour the building. As part of the evening\, new parents will receive an orientation to London Christian High. We look forward to seeing you there!
URL:https://londonchristianhigh.ca/event/community-bbq-2025/
LOCATION:London Christian High\, 24 Braesyde Ave\, London\, ON\, N5W 1V3\, Canada
CATEGORIES:Community,Food
ATTACH;FMTTYPE=image/png:https://londonchristianhigh.ca/wp-content/uploads/2023/08/Community-BBQ-Graphic-2025.png
ORGANIZER;CN="London Christian High":MAILTO:office@lchonline.ca
END:VEVENT
BEGIN:VEVENT
DTSTART;TZID=America/Toronto:20250818T090000
DTEND;TZID=America/Toronto:20250822T150000
DTSTAMP:20260423T194657
CREATED:20240212T080035Z
LAST-MODIFIED:20250304T161810Z
UID:6579-1755507600-1755874800@londonchristianhigh.ca
SUMMARY:LCH Basketball Camp
DESCRIPTION:Register today for the LCH Basketball Camp! \nOpen to students currently in Grade 5-8 who will start Grade 6-9 in September. \n\nArrive at 8:45am daily\nCamp Runs from 9:00am – 3:00pm\nLunch Provided at 12:00 – 12:30 pm\nPick-up at 3:00pm\nFRIDAY: Arrive at 2PM to participate in a Parents vs. Campers Basketball Game!\n\nPrice: $250.00 \nThe price includes a t-shirt and lunch each day. Requested shirt sizes are only guaranteed for those who register prior to June 30\, 2025. \nPayment is due upon registration. The preferred method of payment is through PayPal. To do so\, please click the button below. You can also send an etransfer to finance@lchonline.ca with a note indicating the payment is for basketball camp and the name of your camper(s). \n\nPay with Debit/Credit\n \n  \n﻿Loading…
URL:https://londonchristianhigh.ca/event/basketballcamp/
LOCATION:London Christian High\, 24 Braesyde Ave\, London\, ON\, N5W 1V3\, Canada
CATEGORIES:Community,Outreach,Sports
ATTACH;FMTTYPE=image/png:https://londonchristianhigh.ca/wp-content/uploads/2024/02/Basketball-Camp-Event-1920-x-1080-px.png
ORGANIZER;CN="Aaron Hesman":MAILTO:ahesman@lchonline.ca
END:VEVENT
BEGIN:VEVENT
DTSTART;TZID=America/Toronto:20250811T090000
DTEND;TZID=America/Toronto:20250815T150000
DTSTAMP:20260423T194657
CREATED:20240212T080018Z
LAST-MODIFIED:20250610T143639Z
UID:6576-1754902800-1755270000@londonchristianhigh.ca
SUMMARY:LCH Volleyball Camp
DESCRIPTION:*This camp is now FULL for 2025!* \nOpen to students currently in Grade 5-8 who will start Grade 6-9 in September. Some experience with volleyball required. \n\nArrive at 8:45am daily\nCamp Runs from 9:00am – 3:00pm\nLunch Provided at 12:00 – 12:30 pm \nPick-up at 3:00pm\n\nPrice: $250 \nThe price includes a t-shirt and lunch each day. Requested shirt sizes are only guaranteed for those who register prior to June 30\, 2025. \nPayment is due upon registration. The preferred method of payment is PayPal. To do so\, click the button below. Or you can send an etransfer to finance@lchonline.ca with a note indicating the payment is for volleyball camp and the name of your camper(s). \n\nPay with Debit/Credit  \nLoading…
URL:https://londonchristianhigh.ca/event/volleyballcamp/
LOCATION:London Christian High\, 24 Braesyde Ave\, London\, ON\, N5W 1V3\, Canada
CATEGORIES:Community,Outreach,Sports
ATTACH;FMTTYPE=image/png:https://londonchristianhigh.ca/wp-content/uploads/2024/02/Volleyball-Camp-Event-1920-x-1080-px.png
ORGANIZER;CN="Amanda Beerda":MAILTO:abeerda@lchonline.ca
END:VEVENT
BEGIN:VEVENT
DTSTART;TZID=America/Toronto:20250623T190000
DTEND;TZID=America/Toronto:20250623T210000
DTSTAMP:20260423T194657
CREATED:20250401T154141Z
LAST-MODIFIED:20250619T165911Z
UID:8033-1750705200-1750712400@londonchristianhigh.ca
SUMMARY:Graduation 2025
DESCRIPTION:You’re invited to the graduation of the Class of 2025! Family\, friends\, alumni\, community members: All are welcome! Ceremony is on Monday\, June 23 starting at 7:00 at North Park Community Church\, 1510 Fanshawe Park Rd. E. London\, ON. Doors will be open to the community at 6:30PM.\n\nTo watch it live\, click here.\n 
URL:https://londonchristianhigh.ca/event/graduation-2025/
LOCATION:North Park Community Church\, 1510 Fanshawe Park Road E\, London\, Ontario\, N5X 4A3\, Canada
CATEGORIES:Community
ATTACH;FMTTYPE=image/png:https://londonchristianhigh.ca/wp-content/uploads/2025/04/Graduation-2025.png
ORGANIZER;CN="London Christian High":MAILTO:office@lchonline.ca
END:VEVENT
BEGIN:VEVENT
DTSTART;TZID=America/Toronto:20250524T100000
DTEND;TZID=America/Toronto:20250524T140000
DTSTAMP:20260423T194657
CREATED:20250218T203955Z
LAST-MODIFIED:20250402T134202Z
UID:7871-1748080800-1748095200@londonchristianhigh.ca
SUMMARY:60th Anniversary Open House
DESCRIPTION:*Scroll Down to RSVP* \nOn September 7\, 1965\, 27 students were welcomed by 3 teachers to London District Christian Secondary School\, housed in a modest building on Tremont Road. 60 years marks a great time to celebrate the impact that LCH has had on students for generations.  \nAlumni\, teachers past and present\, parents\, grandparents and all those who have supported London Christian High over these first six decades are invited to join us at an Open House from 10:00am to 2:00pm on Saturday\, May 24\, 2025. \nThis will be a great opportunity to meet and mingle with former classmates and teachers. There will be photos and displays commemorating each decade\, tours of the building\, an update on where we are at now and what’s being planned for the future. We also hope you will join us for lunch. \nAll are welcome! There’s no charge\, but we do ask if you could RSVP so we know how much food to prepare. Please register by using the form below.  \nCan’t make it\, but still interested in participating? Use the same form to send your greetings or favourite memories of your time at LDCSS/LCH. We’ll print and display them for your friends and classmates to see.  \nThis promises to be a great day to look back at where we’ve come from\, celebrate where we are now\, and see the dreams we have for the future – and there are some big plans in the works!  \nInvite your fellow LCH alumni and friends and celebrate together – we’re looking forward to seeing as many of you back as possible. \nPlease reach out to Tim Wolfert\, LCH’s Development Director\, at twolfert@lchonline.ca with any questions.  \nLoading…
URL:https://londonchristianhigh.ca/event/60th-anniversary-open-house/
LOCATION:London Christian High\, 24 Braesyde Ave\, London\, ON\, N5W 1V3\, Canada
CATEGORIES:Community,School
ATTACH;FMTTYPE=image/png:https://londonchristianhigh.ca/wp-content/uploads/2025/02/3.png
ORGANIZER;CN="Tim Wolfert":MAILTO:twolfert@lchonline.ca
END:VEVENT
BEGIN:VEVENT
DTSTART;TZID=America/Toronto:20250523T133000
DTEND;TZID=America/Toronto:20250523T173000
DTSTAMP:20260423T194657
CREATED:20250508T134427Z
LAST-MODIFIED:20250508T134427Z
UID:8079-1748007000-1748021400@londonchristianhigh.ca
SUMMARY:Relay for Life 2025
DESCRIPTION:Get ready for an unforgettable afternoon of fun\, community\, and fundraising! Relay For Life is happening on May 23\, and we want everyone to be part of it! \nWhy Sign Up?\nBy signing up or joining a Relay team\, you’re supporting cancer research\, a cause that touches countless lives.\nAND\, if we get enough participants\, classes will shut down early so we can enjoy the afternoon outdoors with: \n\nVolleyball\nCornhole\nFour Square Volleyball\nColour Powder Lap\nFree Pizza\nFree T-Shirts\nFun\, friends\, and community spirit!\n\nHow to Sign Up: \n\nGo to: http://relayforlife.ca/lch\nClick “Sign up for this event”\nJoin a friend’s team or create your own\nFill out the registration form\nPay online\, or give your registration fee to Judah Boersma or Alanna Poortinga\nStart sharing this link http://relayforlife.ca/lch with family and friends to fundraise!\n\nImportant Details:\nThe event will begin at 1:30 PM (if enough people sign up and classes can be dismissed early) and run until 5:30 PM. The option for students to go home on busses as usual is also available. \nAt 4:00 PM\, we’re opening the event to the wider community! Invite your family\, friends\, and neighbors to come relay with us! \nPrizes & Challenges\nEvery person on the top fundraising team wins a prize! \nThe top individual fundraiser gets to dump a bucket of ice water on a teacher! \nSign up today and help us reach our $35\,000 fundraising goal!\nhttp://relayforlife.ca/lch \n 
URL:https://londonchristianhigh.ca/event/relay-for-life-2025/
LOCATION:London Christian High\, 24 Braesyde Ave\, London\, ON\, N5W 1V3\, Canada
CATEGORIES:Community,Fundraising
ATTACH;FMTTYPE=image/png:https://londonchristianhigh.ca/wp-content/uploads/2025/05/Relay-for-Life-2025.png
END:VEVENT
BEGIN:VEVENT
DTSTART;TZID=America/Toronto:20250501T080000
DTEND;TZID=America/Toronto:20250530T150000
DTSTAMP:20260423T194657
CREATED:20250505T154607Z
LAST-MODIFIED:20250505T170253Z
UID:8073-1746086400-1748617200@londonchristianhigh.ca
SUMMARY:Shadow Days
DESCRIPTION:Are you a student who is interested in checking out LCH? Shadow Days are designed for students in Grade 10\, 11\, and 12 who are curious about transferring to London Christian High. You will shadow an LCH student leader for a school day\, and they will be your personal guide as you visit classes\, check out extracurriculars\, and meet other students. It’s a great opportunity to get any questions you have answered by the experts! Shadow Days are personalized for each student by our Admissions Coordinator\, Bret McArthur. To book your Shadow Day before this school year is over\, contact Bret at admissions@lchonline.ca
URL:https://londonchristianhigh.ca/event/shadow-days/
LOCATION:ON
ORGANIZER;CN="London Christian High - Admissions":MAILTO:admissions@lchonline.ca
END:VEVENT
END:VCALENDAR