BEGIN:VCALENDAR
VERSION:2.0
PRODID:-//London Christian High - ECPv6.15.20//NONSGML v1.0//EN
CALSCALE:GREGORIAN
METHOD:PUBLISH
X-WR-CALNAME:London Christian High
X-ORIGINAL-URL:https://londonchristianhigh.ca
X-WR-CALDESC:Events for London Christian High
REFRESH-INTERVAL;VALUE=DURATION:PT1H
X-Robots-Tag:noindex
X-PUBLISHED-TTL:PT1H
BEGIN:VTIMEZONE
TZID:America/Toronto
BEGIN:DAYLIGHT
TZOFFSETFROM:-0500
TZOFFSETTO:-0400
TZNAME:EDT
DTSTART:20250309T070000
END:DAYLIGHT
BEGIN:STANDARD
TZOFFSETFROM:-0400
TZOFFSETTO:-0500
TZNAME:EST
DTSTART:20251102T060000
END:STANDARD
BEGIN:DAYLIGHT
TZOFFSETFROM:-0500
TZOFFSETTO:-0400
TZNAME:EDT
DTSTART:20260308T070000
END:DAYLIGHT
BEGIN:STANDARD
TZOFFSETFROM:-0400
TZOFFSETTO:-0500
TZNAME:EST
DTSTART:20261101T060000
END:STANDARD
BEGIN:DAYLIGHT
TZOFFSETFROM:-0500
TZOFFSETTO:-0400
TZNAME:EDT
DTSTART:20270314T070000
END:DAYLIGHT
BEGIN:STANDARD
TZOFFSETFROM:-0400
TZOFFSETTO:-0500
TZNAME:EST
DTSTART:20271107T060000
END:STANDARD
END:VTIMEZONE
BEGIN:VEVENT
DTSTART;VALUE=DATE:20260113
DTEND;VALUE=DATE:20260213
DTSTAMP:20260423T175606
CREATED:20251209T163238Z
LAST-MODIFIED:20260126T193620Z
UID:7704-1768262400-1770940799@londonchristianhigh.ca
SUMMARY:Parent Information Nights
DESCRIPTION:Join Us for London Christian High Parent Information Night! \nAre you ready to embark on the exciting journey of your child’s high school years? Whether your student is entering high school next year or in a few years’ time\, this Parent Information Night is your chance to get a deeper understanding of London Christian High. \nOur Admissions Coordinator and Principal will give you an overview of everything you need to know about London Christian High. From understanding the admissions process\, tuition\, our program\, student services\, to exploring the ‘why’ behind Christian Education\, we’ve got it covered. \nYou’ll gain insights into important topics like course offerings\, tuition assistance\, parent communication\, and transportation. Plus\, we’ll highlight the ways we support student well-being and provide a safe and inclusive learning environment. \nDon’t miss out on the opportunity to ask questions\, connect with other parents\, and gather information to support your child’s educational success. \nGrades 5 to 8 parents are welcome! \nMark your calendars and be part of this vital conversation. \n  \nDates & Times \nFebruary 3 – London Christian Elementary School\, 7-8pm \n202 Clarke Rd\, London\, ON \n  \nFebruary 4 – Immanuel Christian School\, 7-8pm \n75 Caverly Rd\, Aylmer\, ON \n  \nFebruary 10 – Stratford & District Christian School\, 7-8pm \n190 Queensland Rd\, Stratford\, ON \n  \nFebruary 11 – John Knox Christian School\, 7-8pm \n4738 Confederation Line\, Wyoming\, ON \n  \nFebruary 12 – London Christian Academy\, 7-8pm \n85 Charles St\, London\, ON \n  \n  \nLoading…
URL:https://londonchristianhigh.ca/event/parent-information-nights-2026/
LOCATION:ON
CATEGORIES:Admissions,Community
ATTACH;FMTTYPE=image/png:https://londonchristianhigh.ca/wp-content/uploads/2025/12/PIN-Graphic-2025-2026-Event-Page.png
ORGANIZER;CN="London Christian High - Admissions":MAILTO:admissions@lchonline.ca
END:VEVENT
BEGIN:VEVENT
DTSTART;TZID=America/Toronto:20260202T193000
DTEND;TZID=America/Toronto:20260202T203000
DTSTAMP:20260423T175606
CREATED:20260116T185617Z
LAST-MODIFIED:20260119T163450Z
UID:8601-1770060600-1770064200@londonchristianhigh.ca
SUMMARY:Adult Learning Tour - Canadian Battlefields 2027 Information Meeting
DESCRIPTION:London Christian High is excited to announce our first-ever Adult Learning Tour: Canadian Battlefields 2027. Join us in late spring 2027 as we travel through the Netherlands\, Belgium\, and France\, exploring key sites from WWI and WWII and learning about the vital role Canadian soldiers played in the fight for freedom. \nHighlights include: the Anne Frank House\, Corrie Ten Boom’s Hiding Place\, the nightly Last Post ceremony at the Menin Gate\, and walking the Normandy beaches at Juno. We’ll stand atop Vimy Ridge\, walk the trenches at Beaumont-Hamel\, and visit Hill 62—bringing history to life in powerful and meaningful ways. \nThis 13-day guided tour includes accommodations\, most meals\, site entry fees\, and travel by private coach with a professional Tour Director from Go Ahead Tours. Flights are not included\, allowing flexibility to extend your travel before or after the tour. Leading up to the trip\, participants will receive regular updates\, historical context\, and reading suggestions to help prepare for the journey. \nAn information meeting will be held on Monday\, February 2\, 2026\, at 7:30 PM at London Christian High\, with a virtual option available by request. Please RSVP with the form below to let us know you are coming to the information meeting: \nLoading…
URL:https://londonchristianhigh.ca/event/battlefields-info-meeting-2026/
LOCATION:London Christian High\, 24 Braesyde Ave\, London\, ON\, N5W 1V3\, Canada
CATEGORIES:Community,Outreach
ATTACH;FMTTYPE=image/png:https://londonchristianhigh.ca/wp-content/uploads/2026/01/unnamed.png
ORGANIZER;CN="Jacky Dieleman":MAILTO:jdieleman@lchonline.ca
END:VEVENT
BEGIN:VEVENT
DTSTART;TZID=America/Toronto:20260422T130000
DTEND;TZID=America/Toronto:20260428T220000
DTSTAMP:20260423T175606
CREATED:20260219T170826Z
LAST-MODIFIED:20260327T155246Z
UID:8617-1776862800-1777413600@londonchristianhigh.ca
SUMMARY:Mary Poppins - Drama Production
DESCRIPTION:The LCH Drama club proudly presents Disney’s Mary Poppins! \nMary Poppins tells the story of the Banks family\, who live in a big house in London on Cherry Lane. Things are not going well: the children\, Jane and Michael\, are out of control and in need of a new nanny. While Jane and Michael have their own ideas about the kind of caretaker they want\, their parents—especially Mr. Banks—insist on someone strict. \nWhen a mysterious young woman named Mary Poppins appears at their doorstep\, the family quickly discovers she is the answer to their prayers—though in the most unexpected way. Mary Poppins leads the children on magical and memorable adventures\, but Jane and Michael aren’t the only ones she profoundly affects. Even the grown-ups learn a lesson or two from the nanny who reminds them that “anything can happen if you let it.” \nPurchase Tickets:\nApril 22\, 2026 @ 1:00pm- Senior’s Matinee\nApril 24\, 2026 @ 7:00pm\nApril 25\, 2026 @ 1:00pm\nApril 25\, 2026 @ 7:00pm\nApril 28\, 2026 @ 7:00pm \nWant to support our drama department beyond the box office? See below how you can contribute to our Drama program with a sponsorship! CLICK HERE to submit your sponsorship*.  \n \n*Please note that sponsorships are not eligible for charitable tax receipts.
URL:https://londonchristianhigh.ca/event/mary-poppins/
LOCATION:London Christian High\, 24 Braesyde Ave\, London\, ON\, N5W 1V3\, Canada
CATEGORIES:Community,Drama,Music
ATTACH;FMTTYPE=image/png:https://londonchristianhigh.ca/wp-content/uploads/2026/02/Mary-Poppins-Event-Graphic.png
END:VEVENT
BEGIN:VEVENT
DTSTART;TZID=America/Toronto:20260422T190000
DTEND;TZID=America/Toronto:20260422T200000
DTSTAMP:20260423T175606
CREATED:20260304T184443Z
LAST-MODIFIED:20260304T184856Z
UID:8653-1776884400-1776888000@londonchristianhigh.ca
SUMMARY:Will Planning 101
DESCRIPTION:On Wednesday\, April 22 at 7:00 pm\, LCH\, together with other Christian schools in the greater London area\, will host Will Planning 101\, an online seminar provided by our partners at the Christian School Foundation. This session will guide you through the key steps involved in preparing or updating your Will. \nThe Foundation will share important information about what a well‑crafted Will should include\, how to choose an executor\, how to name a guardian for your children\, and how to select a Substitute Decision Maker should you become unable to make your own health‑care decisions. This seminar is designed to be both informative and empowering. \nYou will also learn how members of our school community can access\, at no cost\, the services of the Foundation’s partner\, Christian Stewardship Services. \nThis seminar is free to attend. Please register at www.christianschoolfoundation.ca/events. We hope you can join us.
URL:https://londonchristianhigh.ca/event/will-planning-101/
LOCATION:Online
CATEGORIES:Community
ATTACH;FMTTYPE=image/png:https://londonchristianhigh.ca/wp-content/uploads/2026/03/Will-Planning-101.png
END:VEVENT
BEGIN:VEVENT
DTSTART;TZID=America/Toronto:20260623T190000
DTEND;TZID=America/Toronto:20260623T210000
DTSTAMP:20260423T175606
CREATED:20260227T150818Z
LAST-MODIFIED:20260227T150818Z
UID:8638-1782241200-1782248400@londonchristianhigh.ca
SUMMARY:Graduation 2026
DESCRIPTION:You’re invited to the graduation of the Class of 2026!\n\nFamily\, friends\, alumni\, community members: All are welcome! Ceremony is on Tuesday\, June 23 starting at 7:00PM at North Park Community Church\, 1510 Fanshawe Park Rd. E. London\, ON. Doors will be open to the community at 6:30PM.\n\n 
URL:https://londonchristianhigh.ca/event/graduation-2026/
LOCATION:North Park Community Church\, 1510 Fanshawe Park Road E\, London\, Ontario\, N5X 4A3\, Canada
CATEGORIES:Community
ATTACH;FMTTYPE=image/jpeg:https://londonchristianhigh.ca/wp-content/uploads/2026/02/Grad-Graphic.jpg
ORGANIZER;CN="London Christian High":MAILTO:office@lchonline.ca
END:VEVENT
BEGIN:VEVENT
DTSTART;TZID=America/Toronto:20260810T090000
DTEND;TZID=America/Toronto:20260814T150000
DTSTAMP:20260423T175606
CREATED:20260219T172850Z
LAST-MODIFIED:20260219T203405Z
UID:8621-1786352400-1786719600@londonchristianhigh.ca
SUMMARY:LCH Volleyball Camp
DESCRIPTION:Open to students currently in Grade 5-8 who will start Grade 6-9 in September. Some experience with volleyball required. \n\nAugust 10-14\, 2026\nArrive at 8:45am daily\nCamp Runs from 9:00am – 3:00pm\nLunch Provided at 12:00 – 12:30 pm\n\nPrice: $250 \nThe price includes a t-shirt and lunch each day. Requested shirt sizes are only guaranteed for those who register prior to June 30\, 2026. \nPayment is due upon registration. The preferred method of payment is PayPal. To do so\, click the button below. Or you can send an etransfer to finance@lchonline.ca with a note indicating the payment is for volleyball camp and the name of your camper(s). \nFor any questions\, please contact Ally Salomons. \n\nPay with Debit/Credit  \nLoading…
URL:https://londonchristianhigh.ca/event/volleyballcamp-2026/
LOCATION:London Christian High\, 24 Braesyde Ave\, London\, ON\, N5W 1V3\, Canada
CATEGORIES:Community,Outreach,Sports
ATTACH;FMTTYPE=image/png:https://londonchristianhigh.ca/wp-content/uploads/2026/02/Volleyball-Camp-Event-1920-x-1080-px.png
END:VEVENT
BEGIN:VEVENT
DTSTART;TZID=America/Toronto:20260817T090000
DTEND;TZID=America/Toronto:20260821T150000
DTSTAMP:20260423T175606
CREATED:20260219T172845Z
LAST-MODIFIED:20260313T151429Z
UID:8629-1786957200-1787324400@londonchristianhigh.ca
SUMMARY:LCH Basketball Camp
DESCRIPTION:Build on your basketball skills during your summer vacation! Have fun\, make friends\, and grow in your abilities in a safe\, Christian environment. Coached by LCH staff\, and assisted by alumni and current LCH students. Open to students currently in Grade 5-8 who will start Grade 6-9 in September. \n\nAugust 17-21\, 2026\nArrive at 8:45am daily\nCamp Runs from 9:00am – 3:00pm\nLunch Provided at 12:00 – 12:30 pm\n\nPrice: $250.00 \nThe price includes a t-shirt and lunch each day. Requested shirt sizes are only guaranteed for those who register prior to June 30\, 2026. \nPayment is due upon registration. The preferred method of payment is through PayPal. To do so\, please click the button below. You can also send an etransfer to finance@lchonline.ca with a note indicating the payment is for basketball camp and the name of your camper(s). \nFor any questions\, please contact Aaron Hesman. \n\nPay with Debit/Credit  \nLoading…
URL:https://londonchristianhigh.ca/event/basketballcamp-2026/
LOCATION:London Christian High\, 24 Braesyde Ave\, London\, ON\, N5W 1V3\, Canada
CATEGORIES:Community,Outreach,Sports
ATTACH;FMTTYPE=image/png:https://londonchristianhigh.ca/wp-content/uploads/2026/02/Basketball-Camp-Event-1920-x-1080-px.png
ORGANIZER;CN="Aaron Hesman":MAILTO:ahesman@lchonline.ca
END:VEVENT
BEGIN:VEVENT
DTSTART;TZID=America/Toronto:20260925T133000
DTEND;TZID=America/Toronto:20260925T193000
DTSTAMP:20260423T175606
CREATED:20260421T181825Z
LAST-MODIFIED:20260421T181825Z
UID:8822-1790343000-1790364600@londonchristianhigh.ca
SUMMARY:Golf Tournament 2026
DESCRIPTION:Join us for a day of golf and community at Echo Valley Golf Club as we come together to support London Christian High at the 16th Annual Golf Tournament! Our goal for this year’s tournament is to raise $40\,000 to support the ongoing work of London Christian High. By participating\, you can help us achieve this goal and continue to provide a Christ-centred education for our students. To register as a player\, click the button below: \nPlayer Registration\n  \nSign up as a sponsor for this event! Sponsorship levels range from $500 to $5000\, providing different opportunities to mutual benefit. To register as a sponsor\, click the button below: \nSponsorship Registration\n  \nPAY NOW\n  \n \n  \nPlayer and Sponsorship funds are due upon form completion. Preferred payment is credit card via the button below\, or via e-transfer to finance@lchonline.ca. Alternatively\, by mailing a cheque to the school. \n  \nPAY NOW\n 
URL:https://londonchristianhigh.ca/event/golf-tournament-2026/
LOCATION:Echo Valley Golf Club\, 2738 Brigham Rd.\, London\, ON\, Canada
CATEGORIES:Community,Fundraising
ATTACH;FMTTYPE=image/png:https://londonchristianhigh.ca/wp-content/uploads/2026/04/Golf-Tournament-2026-Facebook-Event.png
ORGANIZER;CN="LCH Golf Committee":MAILTO:golf@lchonline.ca
END:VEVENT
END:VCALENDAR